BEGIN:VCALENDAR
VERSION:2.0
PRODID:-//eventon.com NONSGML v1.0//EN
CALSCALE:GREGORIAN
METHOD:PUBLISH
BEGIN:VEVENT
UID:69e8a02d2fd8d
DTSTAMP:20260422T101717Z
DTSTART:20270305T190000Z
DTEND:20270305T225900Z
LOCATION:
SUMMARY:SVEN IVANIĆ «LUEGEMER SPONTI»
DESCRIPTION:Humor entsteht durch Gegensätze. Davon könnte Sven ein Liedch
 en singen. Seinnordischer Vorname passt nicht zum slawischen Nachnamen\,  d
 er Job als Komikernicht zur Ausbildung als Jurist und die südlichen Gitarr
 enklänge nicht zu denschweizerdeutschen Texten. Ist das schlimm? Nein\,  a
 ber unterhaltsam! Bist dudabei oder &#8222;luegsch sponti&#8220;? https://s
 ven-ivanic.ch https://www.neongrau.ch\nhttps://gleis21.ch/events/sven-ivani
 c-luegemer-sponti/
URL:https://gleis21.ch/events/sven-ivanic-luegemer-sponti/
END:VEVENT
END:VCALENDAR