BEGIN:VCALENDAR
VERSION:2.0
PRODID:-//eventon.com NONSGML v1.0//EN
CALSCALE:GREGORIAN
METHOD:PUBLISH
BEGIN:VEVENT
UID:69e4d67c9c874
DTSTAMP:20260419T131956Z
DTSTART:20260501T060000Z
DTEND:20260504T214500Z
LOCATION:
SUMMARY:1. Mai Brüggli ! Geschlossen
DESCRIPTION:Im Gleis 21 wird gebrügglet – und zwar ab dem Tag der Arbeit
 \,  1. Mai\,  durchgehend bis + mit Montag\,  4. Mai!Wir gehen zum Feuern\,
   Brutzeln\,  Chillen – wir sorgen für Glut\,  Stimmung und ein bisschen
  entspannte Zeit. Geh mit Grillgut oder hol dir was – Hauptsache\,  du ge
 niesst die[..]\nhttps://gleis21.ch/events/1-mai-brueggli-geschlossen/
URL:https://gleis21.ch/events/1-mai-brueggli-geschlossen/
END:VEVENT
END:VCALENDAR