BEGIN:VCALENDAR
VERSION:2.0
PRODID:-//eventon.com NONSGML v1.0//EN
CALSCALE:GREGORIAN
METHOD:PUBLISH
BEGIN:VEVENT
UID:69e7367f78cc6
DTSTAMP:20260421T083407Z
DTSTART:20260304T130000Z
DTEND:20260304T150000Z
LOCATION:Gleis 21 Buchsackerstrasse 21
SUMMARY:Philosophie Stammtisch - auch 2026 geht’s weiter!
DESCRIPTION:Stammtisch der Philosophinnen und Philosophen Ein Ort\,  wo die
  Teilnehmenden alles\,  was sie beschäftigt\,  aufgreifen und hinterfragen
  und diskutieren können dürfen sollen! Eine erste Diskussion ergibt schon
  die Frage was uns gerade heute am meisten beschäftigt\,  ärgert\,  ängs
 tigt oder freut? Wir einigen uns auf ein Thema\,  das wir vertiefen wollen!
 [..]\nhttps://gleis21.ch/events/philosophie-stammtisch-auch-2026-gehts-weit
 er-3/
URL:https://gleis21.ch/events/philosophie-stammtisch-auch-2026-gehts-weiter-3/
END:VEVENT
END:VCALENDAR