BEGIN:VCALENDAR
VERSION:2.0
PRODID:-//eventon.com NONSGML v1.0//EN
CALSCALE:GREGORIAN
METHOD:PUBLISH
BEGIN:VEVENT
UID:69e57b07f2000
DTSTAMP:20260420T010159Z
DTSTART:20260822T120000Z
DTEND:20260822T213000Z
LOCATION:Gleis 21 Buchsackerstrasse 21
SUMMARY:Theatertag 2026
DESCRIPTION:in diesem Jahr ist wieder der Theatertag bei uns im Gleis 21 an
 gesagt. Wie immer startet der Anlass mit der Aufführung der Theateria KiJu
 Ku &#8211; Dietikon Kinder aus der Region zeigen unter der Leitung von Heid
 i Christen und Stefan Baier ihr im Sommerworkshop entwickelte Stück. Unser
  Food Truck sorgt für[..]\nhttps://gleis21.ch/events/theatertag-2026/
URL:https://gleis21.ch/events/theatertag-2026/
END:VEVENT
END:VCALENDAR