BEGIN:VCALENDAR
VERSION:2.0
PRODID:-//eventon.com NONSGML v1.0//EN
CALSCALE:GREGORIAN
METHOD:PUBLISH
BEGIN:VEVENT
UID:69e7d75277c76
DTSTAMP:20260421T200018Z
DTSTART:20241114T191500Z
DTEND:20241114T225900Z
LOCATION:Gleis 21 Buchsackerstrasse 21
SUMMARY:Liftoff! "Starterband an Valley Jam" im Gleis 21
DESCRIPTION:Liftoff!\,  die Zürcher Soulfunk-Band\,  die dich in die Umlau
 fbahn katapultieren wird! Seit 2017 sind sie auf gemeinsamer Mission: Eigen
 e Songs mit knackigen Grooves und einer gehörigen Portion «shake your boo
 ty»! Fünf Musiker\,  fünf unterschiedliche musikalische Einflüsse\,  ve
 rbunden durch ihre Liebe zur Black Music. Allesamt mit langjähriger Bühne
 n- und Studioerfahrung. Liftoff!\, [..]\nhttps://gleis21.ch/events/liftoff-
 starterband-an-valley-jam-im-gleis-21/
URL:https://gleis21.ch/events/liftoff-starterband-an-valley-jam-im-gleis-21/
END:VEVENT
END:VCALENDAR