BEGIN:VCALENDAR
VERSION:2.0
PRODID:-//eventon.com NONSGML v1.0//EN
CALSCALE:GREGORIAN
METHOD:PUBLISH
BEGIN:VEVENT
UID:69e74e868fc35
DTSTAMP:20260421T101638Z
DTSTART:20241123T191500Z
DTEND:20241123T225900Z
LOCATION:Gleis 21 Buchsackerstrasse 21
SUMMARY:Liederlich
DESCRIPTION:Eine Bühne\,  ein Abend und Künstler*innen\,  die sich gegens
 eitig das Wort geben und die Instrumente aus der Hand nehmen. Seit Jahren g
 elingt es dem&nbsp;liederlich-Format um Gastgeber Reto Zeller\,  äusserst 
 inspirierende Musik- und Wortkabarettisten zusammenzubringen. Neben dem Ges
 chichtenjäger und musikalischen Moderator&nbsp;Reto Zeller&nbsp;steht der 
 Hamburger&nbsp;Axel Pätz&nbsp;auf der Bühne. Ein Musikkabarettist\,  wie 
 er[..]\nhttps://gleis21.ch/events/liederlich/
URL:https://gleis21.ch/events/liederlich/
END:VEVENT
END:VCALENDAR