BEGIN:VCALENDAR
VERSION:2.0
PRODID:-//eventon.com NONSGML v1.0//EN
CALSCALE:GREGORIAN
METHOD:PUBLISH
BEGIN:VEVENT
UID:69e73832b64c8
DTSTAMP:20260421T084122Z
DTSTART:20240309T160000Z
DTEND:20240309T225000Z
LOCATION:
SUMMARY:Heute bleibt das Gleis 21 geschlossen.
DESCRIPTION:Lieben Dank für das Verständnis. Gerne bewirten wir euch am D
 ienstag 12. März 2024\,  wieder ab 11 Uhr.\nhttps://gleis21.ch/events/heut
 e-bleibt-das-gleis-21-geschlossen-11/
URL:https://gleis21.ch/events/heute-bleibt-das-gleis-21-geschlossen-11/
END:VEVENT
END:VCALENDAR