BEGIN:VCALENDAR
VERSION:2.0
PRODID:-//eventon.com NONSGML v1.0//EN
CALSCALE:GREGORIAN
METHOD:PUBLISH
BEGIN:VEVENT
UID:69e8897077943
DTSTAMP:20260422T084016Z
DTSTART:20240523T181500Z
DTEND:20240523T215000Z
LOCATION:Gleis 21 Buchsackerstrasse 21
SUMMARY:Jane Mumford mit "Reptil"
DESCRIPTION:Kaltblütiges Kabarett Dass ausgerechnet wir Menschen so lange 
 überlebt haben auf der Erde! Die Pest hat&#8217;s versucht\,  Vulkane habe
 n&#8217;s versucht\,  wir versuchen’s sogar selber immer wieder mit Krieg
  und Mord und Eurovision Songcontests&#8230; aber wir überleben als Spezie
 s. Stinkfrech und unverdient. Aber sind wir ehrlich: Blut\,  Schweiss und T
 ränen sind[..]\nhttps://gleis21.ch/events/jane-mumford-mit-reptil/
URL:https://gleis21.ch/events/jane-mumford-mit-reptil/
END:VEVENT
END:VCALENDAR