BEGIN:VCALENDAR
VERSION:2.0
PRODID:-//eventon.com NONSGML v1.0//EN
CALSCALE:GREGORIAN
METHOD:PUBLISH
BEGIN:VEVENT
UID:69e9db7110d71
DTSTAMP:20260423T084225Z
DTSTART:20240203T150000Z
DTEND:20240203T225000Z
LOCATION:Gleis 21 Buchsackerstrasse 21
SUMMARY:Öffentliche Vorstellung - SOKO Schafskopf ermittelt
DESCRIPTION:Ein scha(r)fsinniges Figurentheater &#8211; ermöglicht durch S
 chule + Kultur ZH &#8211; Heimspiel Für Menschlein ab 6 Jahre &#8211; 60 M
 inuten ohne Pause Info unter Noch vor Kurzem haben die drei Freunde Locke\,
   Flocke und Socke zufrieden auf ihrer Weide gegrast. Aber dann fahren Bagg
 er auf\,  unter Getöse wird eine Fabrik[..]\nhttps://gleis21.ch/events/oef
 fentliche-vorstellung-soko-schafskopf-ermittelt/
URL:https://gleis21.ch/events/oeffentliche-vorstellung-soko-schafskopf-ermittelt/
END:VEVENT
END:VCALENDAR